BEGIN:VCALENDAR
VERSION:2.0
PRODID:-//wp-events-plugin.com//6.3//EN
TZID:America/New_York
X-WR-TIMEZONE:America/New_York
BEGIN:VEVENT
UID:1068@tehcc.org
DTSTART;TZID=America/New_York:20230502T193000
DTEND;TZID=America/New_York:20230502T210000
DTSTAMP:20230130T145250Z
URL:http://tehcc.org/events/freedom-hall-pool-session-2023-2023-05-02/
SUMMARY:Freedom Hall Pool Session (2023)
DESCRIPTION:WE MUST EXIT THE BUILDING WITH ALL BOATS AND GEAR BY 9:00 P.M.\
 n\nCome join the Jackson Action Wagon (J.A.W.)\, APEs\, and other paddlers
  from around our region at the Freedom Hall Pool in Johnson City\, TN for 
 tips &amp\; tricks about basic kayaking skills and learning how to roll in
  this weekly pool session.\n\nAlready mastered the basics and have a bomb 
 proof roll? There is still a lot of fun to be had at our pool session by p
 racticing your flat-water freestyle moves and hanging out with other paddl
 ers in a nice warm water environment.\n\nAdmission to the pool is $2 per p
 erson\, rolling advice is free! Contact the office of the pool for session
  confirmation or questions regarding the facility. (423) 461-4872\n\nPleas
 e note: The J.A.W. does provide the current fleet of boats for demo at the
  pool session upon request\, but neither the pool nor the J.A.W. provides 
 paddling equipment (Paddle\, Spray Skirt\, etc...) for these sessions. If 
 you are just starting out in the sport and do not yet have your own equipm
 ent please post a message on the Appalachian Paddling Enthusiasts Facebook
  site asking other members to bring extra equipment if possible. We will t
 ry our best to get you outfitted for the night!\n\nAlso feel free to conta
 ct Wesley for any other questions. We hope to see you at the pool!\n\nWesl
 ey R. Bradley\nPool Session Coordinator\n423-647-1321 or dangerousdrafting
 man@hotmail.com\n\n&nbsp\;
CATEGORIES:APEs Paddling
LOCATION:Freedom Hall\, 1320 Pactolas Rd\, Johnson City\, 37604\, United St
 ates
GEO:36.324543;-82.375192
X-APPLE-STRUCTURED-LOCATION;VALUE=URI;X-ADDRESS=1320 Pactolas Rd\, Johnson 
 City\, 37604\, United States;X-APPLE-RADIUS=100;X-TITLE=Freedom Hall:geo:3
 6.324543,-82.375192
END:VEVENT
BEGIN:VTIMEZONE
TZID:America/New_York
X-LIC-LOCATION:America/New_York
BEGIN:DAYLIGHT
DTSTART:20230312T030000
TZOFFSETFROM:-0500
TZOFFSETTO:-0400
TZNAME:EDT
END:DAYLIGHT
END:VTIMEZONE
END:VCALENDAR